BEGIN:VCALENDAR
VERSION:2.0
PRODID:-//Matt Carroll Music - ECPv6.15.20//NONSGML v1.0//EN
CALSCALE:GREGORIAN
METHOD:PUBLISH
X-ORIGINAL-URL:https://mattcarrollmusic.net
X-WR-CALDESC:Events for Matt Carroll Music
REFRESH-INTERVAL;VALUE=DURATION:PT1H
X-Robots-Tag:noindex
X-PUBLISHED-TTL:PT1H
BEGIN:VTIMEZONE
TZID:America/Chicago
BEGIN:DAYLIGHT
TZOFFSETFROM:-0600
TZOFFSETTO:-0500
TZNAME:CDT
DTSTART:20250309T080000
END:DAYLIGHT
BEGIN:STANDARD
TZOFFSETFROM:-0500
TZOFFSETTO:-0600
TZNAME:CST
DTSTART:20251102T070000
END:STANDARD
BEGIN:DAYLIGHT
TZOFFSETFROM:-0600
TZOFFSETTO:-0500
TZNAME:CDT
DTSTART:20260308T080000
END:DAYLIGHT
BEGIN:STANDARD
TZOFFSETFROM:-0500
TZOFFSETTO:-0600
TZNAME:CST
DTSTART:20261101T070000
END:STANDARD
BEGIN:DAYLIGHT
TZOFFSETFROM:-0600
TZOFFSETTO:-0500
TZNAME:CDT
DTSTART:20270314T080000
END:DAYLIGHT
BEGIN:STANDARD
TZOFFSETFROM:-0500
TZOFFSETTO:-0600
TZNAME:CST
DTSTART:20271107T070000
END:STANDARD
END:VTIMEZONE
BEGIN:VEVENT
DTSTART;TZID=America/Chicago:20260801T090000
DTEND;TZID=America/Chicago:20260801T190000
DTSTAMP:20260424T160900
CREATED:20260308T010116Z
LAST-MODIFIED:20260308T010135Z
UID:755-1785574800-1785610800@mattcarrollmusic.net
SUMMARY:Greenfield\, IA - West Central Iowa Gospel Sing
DESCRIPTION:
URL:https://mattcarrollmusic.net/event/greenfield-ia-west-central-iowa-gospel-sing/
END:VEVENT
BEGIN:VEVENT
DTSTART;TZID=America/Chicago:20260818T100000
DTEND;TZID=America/Chicago:20260818T140000
DTSTAMP:20260424T160900
CREATED:20260308T010247Z
LAST-MODIFIED:20260308T010248Z
UID:758-1787047200-1787061600@mattcarrollmusic.net
SUMMARY:Lee's Summit\, MO - Abundant Life AJOY luncheon
DESCRIPTION:with the Larry DeLawder Family
URL:https://mattcarrollmusic.net/event/lees-summit-mo-abundant-life-ajoy-luncheon/
END:VEVENT
BEGIN:VEVENT
DTSTART;TZID=America/Chicago:20260821T130000
DTEND;TZID=America/Chicago:20260822T190000
DTSTAMP:20260424T160900
CREATED:20260308T010355Z
LAST-MODIFIED:20260308T010412Z
UID:760-1787317200-1787425200@mattcarrollmusic.net
SUMMARY:Hilbert\, WI - Voices of Peace Gospel Sing
DESCRIPTION:
URL:https://mattcarrollmusic.net/event/hilbert-wi-voices-of-peace-gospel-sing/
END:VEVENT
BEGIN:VEVENT
DTSTART;TZID=America/Chicago:20260828T120000
DTEND;TZID=America/Chicago:20260828T140000
DTSTAMP:20260424T160900
CREATED:20260308T010626Z
LAST-MODIFIED:20260308T010628Z
UID:765-1787918400-1787925600@mattcarrollmusic.net
SUMMARY:Centralia\, MO - First Baptist Church JOY luncheon
DESCRIPTION:
URL:https://mattcarrollmusic.net/event/centralia-mo-first-baptist-church-joy-luncheon/
END:VEVENT
BEGIN:VEVENT
DTSTART;TZID=America/Chicago:20260828T130000
DTEND;TZID=America/Chicago:20260829T200000
DTSTAMP:20260424T160900
CREATED:20260308T010531Z
LAST-MODIFIED:20260308T010533Z
UID:763-1787922000-1788033600@mattcarrollmusic.net
SUMMARY:Kalona\, IA - Gospel Sing
DESCRIPTION:
URL:https://mattcarrollmusic.net/event/kalona-ia-gospel-sing/
END:VEVENT
END:VCALENDAR