BEGIN:VCALENDAR
VERSION:2.0
PRODID:-//Matt Carroll Music - ECPv6.15.20//NONSGML v1.0//EN
CALSCALE:GREGORIAN
METHOD:PUBLISH
X-WR-CALNAME:Matt Carroll Music
X-ORIGINAL-URL:https://mattcarrollmusic.net
X-WR-CALDESC:Events for Matt Carroll Music
REFRESH-INTERVAL;VALUE=DURATION:PT1H
X-Robots-Tag:noindex
X-PUBLISHED-TTL:PT1H
BEGIN:VTIMEZONE
TZID:America/Chicago
BEGIN:DAYLIGHT
TZOFFSETFROM:-0600
TZOFFSETTO:-0500
TZNAME:CDT
DTSTART:20250309T080000
END:DAYLIGHT
BEGIN:STANDARD
TZOFFSETFROM:-0500
TZOFFSETTO:-0600
TZNAME:CST
DTSTART:20251102T070000
END:STANDARD
BEGIN:DAYLIGHT
TZOFFSETFROM:-0600
TZOFFSETTO:-0500
TZNAME:CDT
DTSTART:20260308T080000
END:DAYLIGHT
BEGIN:STANDARD
TZOFFSETFROM:-0500
TZOFFSETTO:-0600
TZNAME:CST
DTSTART:20261101T070000
END:STANDARD
BEGIN:DAYLIGHT
TZOFFSETFROM:-0600
TZOFFSETTO:-0500
TZNAME:CDT
DTSTART:20270314T080000
END:DAYLIGHT
BEGIN:STANDARD
TZOFFSETFROM:-0500
TZOFFSETTO:-0600
TZNAME:CST
DTSTART:20271107T070000
END:STANDARD
END:VTIMEZONE
BEGIN:VEVENT
DTSTART;TZID=America/Chicago:20260103T170000
DTEND;TZID=America/Chicago:20260103T220000
DTSTAMP:20260424T144849
CREATED:20251106T032810Z
LAST-MODIFIED:20251113T193508Z
UID:727-1767459600-1767477600@mattcarrollmusic.net
SUMMARY:Lebanon\, MO - New Years Spectacular
DESCRIPTION:Lebanon First Assembly on Hwy W
URL:https://mattcarrollmusic.net/event/lebanon-mo-new-years-spectacular/
END:VEVENT
BEGIN:VEVENT
DTSTART;TZID=America/Chicago:20260104T100000
DTEND;TZID=America/Chicago:20260104T113000
DTSTAMP:20260424T144849
CREATED:20260308T003012Z
LAST-MODIFIED:20260308T003047Z
UID:731-1767520800-1767526200@mattcarrollmusic.net
SUMMARY:Lebanon\, MO - Ozark Bible Church
DESCRIPTION:
URL:https://mattcarrollmusic.net/event/lebanon-mo-ozark-bible-church-2/
END:VEVENT
BEGIN:VEVENT
DTSTART;TZID=America/Chicago:20260125T110000
DTEND;TZID=America/Chicago:20260125T123000
DTSTAMP:20260424T144849
CREATED:20260308T003205Z
LAST-MODIFIED:20260308T003206Z
UID:733-1769338800-1769344200@mattcarrollmusic.net
SUMMARY:Cancelled Ashland\, MO - Dry Fork Baptist Church
DESCRIPTION:
URL:https://mattcarrollmusic.net/event/cancelled-ashland-mo-dry-fork-baptist-church/
END:VEVENT
END:VCALENDAR