BEGIN:VCALENDAR
VERSION:2.0
PRODID:-//Matt Carroll Music - ECPv6.15.20//NONSGML v1.0//EN
CALSCALE:GREGORIAN
METHOD:PUBLISH
X-WR-CALNAME:Matt Carroll Music
X-ORIGINAL-URL:https://mattcarrollmusic.net
X-WR-CALDESC:Events for Matt Carroll Music
REFRESH-INTERVAL;VALUE=DURATION:PT1H
X-Robots-Tag:noindex
X-PUBLISHED-TTL:PT1H
BEGIN:VTIMEZONE
TZID:America/Chicago
BEGIN:DAYLIGHT
TZOFFSETFROM:-0600
TZOFFSETTO:-0500
TZNAME:CDT
DTSTART:20240310T080000
END:DAYLIGHT
BEGIN:STANDARD
TZOFFSETFROM:-0500
TZOFFSETTO:-0600
TZNAME:CST
DTSTART:20241103T070000
END:STANDARD
BEGIN:DAYLIGHT
TZOFFSETFROM:-0600
TZOFFSETTO:-0500
TZNAME:CDT
DTSTART:20250309T080000
END:DAYLIGHT
BEGIN:STANDARD
TZOFFSETFROM:-0500
TZOFFSETTO:-0600
TZNAME:CST
DTSTART:20251102T070000
END:STANDARD
BEGIN:DAYLIGHT
TZOFFSETFROM:-0600
TZOFFSETTO:-0500
TZNAME:CDT
DTSTART:20260308T080000
END:DAYLIGHT
BEGIN:STANDARD
TZOFFSETFROM:-0500
TZOFFSETTO:-0600
TZNAME:CST
DTSTART:20261101T070000
END:STANDARD
END:VTIMEZONE
BEGIN:VEVENT
DTSTART;TZID=America/Chicago:20251101T190000
DTEND;TZID=America/Chicago:20251101T220000
DTSTAMP:20260424T182024
CREATED:20250418T022809Z
LAST-MODIFIED:20250418T022810Z
UID:671-1762023600-1762034400@mattcarrollmusic.net
SUMMARY:Stoutsville\, MO - Grandmas Country Music Show
DESCRIPTION:
URL:https://mattcarrollmusic.net/event/stoutsville-mo-grandmas-country-music-show/
END:VEVENT
BEGIN:VEVENT
DTSTART;TZID=America/Chicago:20251106T190000
DTEND;TZID=America/Chicago:20251106T203000
DTSTAMP:20260424T182024
CREATED:20250418T022901Z
LAST-MODIFIED:20250418T022902Z
UID:673-1762455600-1762461000@mattcarrollmusic.net
SUMMARY:Newton\, IA - Bar None Cowboy Church
DESCRIPTION:
URL:https://mattcarrollmusic.net/event/newton-ia-bar-none-cowboy-church-2/
END:VEVENT
BEGIN:VEVENT
DTSTART;TZID=America/Chicago:20251109T103000
DTEND;TZID=America/Chicago:20251109T120000
DTSTAMP:20260424T182024
CREATED:20251106T032447Z
LAST-MODIFIED:20251106T032447Z
UID:725-1762684200-1762689600@mattcarrollmusic.net
SUMMARY:Preston\, MN - First Baptist Church
DESCRIPTION:
URL:https://mattcarrollmusic.net/event/preston-mn-first-baptist-church/
END:VEVENT
END:VCALENDAR