BEGIN:VCALENDAR
VERSION:2.0
PRODID:-//Matt Carroll Music - ECPv6.15.20//NONSGML v1.0//EN
CALSCALE:GREGORIAN
METHOD:PUBLISH
X-WR-CALNAME:Matt Carroll Music
X-ORIGINAL-URL:https://mattcarrollmusic.net
X-WR-CALDESC:Events for Matt Carroll Music
REFRESH-INTERVAL;VALUE=DURATION:PT1H
X-Robots-Tag:noindex
X-PUBLISHED-TTL:PT1H
BEGIN:VTIMEZONE
TZID:America/Chicago
BEGIN:DAYLIGHT
TZOFFSETFROM:-0600
TZOFFSETTO:-0500
TZNAME:CDT
DTSTART:20230312T080000
END:DAYLIGHT
BEGIN:STANDARD
TZOFFSETFROM:-0500
TZOFFSETTO:-0600
TZNAME:CST
DTSTART:20231105T070000
END:STANDARD
BEGIN:DAYLIGHT
TZOFFSETFROM:-0600
TZOFFSETTO:-0500
TZNAME:CDT
DTSTART:20240310T080000
END:DAYLIGHT
BEGIN:STANDARD
TZOFFSETFROM:-0500
TZOFFSETTO:-0600
TZNAME:CST
DTSTART:20241103T070000
END:STANDARD
BEGIN:DAYLIGHT
TZOFFSETFROM:-0600
TZOFFSETTO:-0500
TZNAME:CDT
DTSTART:20250309T080000
END:DAYLIGHT
BEGIN:STANDARD
TZOFFSETFROM:-0500
TZOFFSETTO:-0600
TZNAME:CST
DTSTART:20251102T070000
END:STANDARD
END:VTIMEZONE
BEGIN:VEVENT
DTSTART;TZID=America/Chicago:20241201T103000
DTEND;TZID=America/Chicago:20241201T120000
DTSTAMP:20260425T125000
CREATED:20240828T115215Z
LAST-MODIFIED:20240828T115216Z
UID:589-1733049000-1733054400@mattcarrollmusic.net
SUMMARY:Fayette\, MO - Grace Fellowship Church
DESCRIPTION:with Ambassadors of Grace \n\n\n\n3184 Highway 240\, Fayette\, MO 65248
URL:https://mattcarrollmusic.net/event/fayette-mo-grace-fellowship-church/
END:VEVENT
BEGIN:VEVENT
DTSTART;TZID=America/Chicago:20241208T100000
DTEND;TZID=America/Chicago:20241208T113000
DTSTAMP:20260425T125000
CREATED:20240604T021024Z
LAST-MODIFIED:20240604T021025Z
UID:568-1733652000-1733657400@mattcarrollmusic.net
SUMMARY:Marceline\, MO - Bethany Baptist Church
DESCRIPTION:With Ambassadors of Grace  \n\n\n\n305 E Howell Ave\, Marceline\, MO 64658
URL:https://mattcarrollmusic.net/event/marceline-mo-bethany-baptist-church-2/
END:VEVENT
BEGIN:VEVENT
DTSTART;TZID=America/Chicago:20241215T180000
DTEND;TZID=America/Chicago:20241215T193000
DTSTAMP:20260425T125000
CREATED:20241128T193458Z
LAST-MODIFIED:20241128T193553Z
UID:601-1734285600-1734291000@mattcarrollmusic.net
SUMMARY:Madison\, MO - Oak Grove Baptist Church
DESCRIPTION:with Ambassadors of Grace \n\n\n\n24977 Highway 151\, Madison\, MO 65263
URL:https://mattcarrollmusic.net/event/madison-mo-oak-grove-baptist-church-3/
END:VEVENT
BEGIN:VEVENT
DTSTART;TZID=America/Chicago:20241222T110000
DTEND;TZID=America/Chicago:20241222T123000
DTSTAMP:20260425T125000
CREATED:20241128T193808Z
LAST-MODIFIED:20250418T023745Z
UID:604-1734865200-1734870600@mattcarrollmusic.net
SUMMARY:Fulton\, MO - Carrington Baptist Church (Cancelled - Carrolls sick)
DESCRIPTION:with Ambassadors of Grace \n\n\n\n3301 State Road H\, Fulton\, MO 65251
URL:https://mattcarrollmusic.net/event/fulton-mo-carrington-baptist-church/
END:VEVENT
BEGIN:VEVENT
DTSTART;TZID=America/Chicago:20241228T173000
DTEND;TZID=America/Chicago:20241228T203000
DTSTAMP:20260425T125000
CREATED:20241128T194421Z
LAST-MODIFIED:20241128T194422Z
UID:606-1735407000-1735417800@mattcarrollmusic.net
SUMMARY:Lebanon\, MO - Cowen Civic Center
DESCRIPTION:True Love Gospel Music Ministries Year End Celebration \n\n\n\n 500 E Elm St.\, Lebanon\, MO \n\n\n\nDoors open at 4:30 – Free Admission – Love Offering will be taken \n\n\n\ngroups:  True Love Quartet\, Matt Carroll Family\, New Horizons\, The Forman’s\, Brenda Denney Rhoades\, and Jeff Boston \n\n\n\nFor more information contact: Darrell at 417-664-2161 or Jim 417-664-2062
URL:https://mattcarrollmusic.net/event/lebanon-mo-cowen-civic-center/
END:VEVENT
BEGIN:VEVENT
DTSTART;TZID=America/Chicago:20241229T103000
DTEND;TZID=America/Chicago:20241229T120000
DTSTAMP:20260425T125000
CREATED:20241128T194552Z
LAST-MODIFIED:20241128T194553Z
UID:608-1735468200-1735473600@mattcarrollmusic.net
SUMMARY:Lebanon\, MO - Ozark Bible Church
DESCRIPTION:18312 Highway 32\, Lebanon\, MO 65536
URL:https://mattcarrollmusic.net/event/lebanon-mo-ozark-bible-church/
END:VEVENT
END:VCALENDAR