BEGIN:VCALENDAR
VERSION:2.0
PRODID:-//Matt Carroll Music - ECPv6.15.20//NONSGML v1.0//EN
CALSCALE:GREGORIAN
METHOD:PUBLISH
X-WR-CALNAME:Matt Carroll Music
X-ORIGINAL-URL:https://mattcarrollmusic.net
X-WR-CALDESC:Events for Matt Carroll Music
REFRESH-INTERVAL;VALUE=DURATION:PT1H
X-Robots-Tag:noindex
X-PUBLISHED-TTL:PT1H
BEGIN:VTIMEZONE
TZID:America/Chicago
BEGIN:DAYLIGHT
TZOFFSETFROM:-0600
TZOFFSETTO:-0500
TZNAME:CDT
DTSTART:20220313T080000
END:DAYLIGHT
BEGIN:STANDARD
TZOFFSETFROM:-0500
TZOFFSETTO:-0600
TZNAME:CST
DTSTART:20221106T070000
END:STANDARD
BEGIN:DAYLIGHT
TZOFFSETFROM:-0600
TZOFFSETTO:-0500
TZNAME:CDT
DTSTART:20230312T080000
END:DAYLIGHT
BEGIN:STANDARD
TZOFFSETFROM:-0500
TZOFFSETTO:-0600
TZNAME:CST
DTSTART:20231105T070000
END:STANDARD
BEGIN:DAYLIGHT
TZOFFSETFROM:-0600
TZOFFSETTO:-0500
TZNAME:CDT
DTSTART:20240310T080000
END:DAYLIGHT
BEGIN:STANDARD
TZOFFSETFROM:-0500
TZOFFSETTO:-0600
TZNAME:CST
DTSTART:20241103T070000
END:STANDARD
END:VTIMEZONE
BEGIN:VEVENT
DTSTART;TZID=America/Chicago:20231203T100000
DTEND;TZID=America/Chicago:20231203T113000
DTSTAMP:20260425T230820
CREATED:20231129T025236Z
LAST-MODIFIED:20231129T025237Z
UID:443-1701597600-1701603000@mattcarrollmusic.net
SUMMARY:Marceline\, MO - Bethany Baptist Church
DESCRIPTION:305 E Howell\, Marceline\, MO \n\n\n\nwith Ambassadors of Grace
URL:https://mattcarrollmusic.net/event/marceline-mo-bethany-baptist-church/
END:VEVENT
BEGIN:VEVENT
DTSTART;TZID=America/Chicago:20231201T190000
DTEND;TZID=America/Chicago:20231201T210000
DTSTAMP:20260425T230820
CREATED:20231129T025503Z
LAST-MODIFIED:20231129T025504Z
UID:448-1701457200-1701464400@mattcarrollmusic.net
SUMMARY:Mexico\, MO - First Assembly of God
DESCRIPTION:1920 Lakeview Rd\, Mexico\, MO \n\n\n\nbenefit concert for KJAB radio station with Ambassadors of Grace
URL:https://mattcarrollmusic.net/event/mexico-mo-first-assembly-of-god/
END:VEVENT
BEGIN:VEVENT
DTSTART;TZID=America/Chicago:20231111T180000
DTEND;TZID=America/Chicago:20231111T203000
DTSTAMP:20260425T230820
CREATED:20231111T225130Z
LAST-MODIFIED:20231111T170700Z
UID:405-1699725600-1699734600@mattcarrollmusic.net
SUMMARY:Columbia\, MO - Prairie Grove Baptist Church
DESCRIPTION:Ambassadors of Grace 20th Anniversary Concert with Ambassadors of Grace\, Liberty Belles\, and the Matt Carroll Family
URL:https://mattcarrollmusic.net/event/columbia-mo-prairie-grove-baptist-church/
END:VEVENT
END:VCALENDAR