BEGIN:VCALENDAR
VERSION:2.0
PRODID:-//Matt Carroll Music - ECPv6.15.20//NONSGML v1.0//EN
CALSCALE:GREGORIAN
METHOD:PUBLISH
X-WR-CALNAME:Matt Carroll Music
X-ORIGINAL-URL:https://mattcarrollmusic.net
X-WR-CALDESC:Events for Matt Carroll Music
REFRESH-INTERVAL;VALUE=DURATION:PT1H
X-Robots-Tag:noindex
X-PUBLISHED-TTL:PT1H
BEGIN:VTIMEZONE
TZID:America/Chicago
BEGIN:DAYLIGHT
TZOFFSETFROM:-0600
TZOFFSETTO:-0500
TZNAME:CDT
DTSTART:20220313T080000
END:DAYLIGHT
BEGIN:STANDARD
TZOFFSETFROM:-0500
TZOFFSETTO:-0600
TZNAME:CST
DTSTART:20221106T070000
END:STANDARD
BEGIN:DAYLIGHT
TZOFFSETFROM:-0600
TZOFFSETTO:-0500
TZNAME:CDT
DTSTART:20230312T080000
END:DAYLIGHT
BEGIN:STANDARD
TZOFFSETFROM:-0500
TZOFFSETTO:-0600
TZNAME:CST
DTSTART:20231105T070000
END:STANDARD
BEGIN:DAYLIGHT
TZOFFSETFROM:-0600
TZOFFSETTO:-0500
TZNAME:CDT
DTSTART:20240310T080000
END:DAYLIGHT
BEGIN:STANDARD
TZOFFSETFROM:-0500
TZOFFSETTO:-0600
TZNAME:CST
DTSTART:20241103T070000
END:STANDARD
BEGIN:DAYLIGHT
TZOFFSETFROM:-0600
TZOFFSETTO:-0500
TZNAME:CDT
DTSTART:20250309T080000
END:DAYLIGHT
BEGIN:STANDARD
TZOFFSETFROM:-0500
TZOFFSETTO:-0600
TZNAME:CST
DTSTART:20251102T070000
END:STANDARD
END:VTIMEZONE
BEGIN:VEVENT
DTSTART;TZID=America/Chicago:20240713T120000
DTEND;TZID=America/Chicago:20240713T140000
DTSTAMP:20260425T105151
CREATED:20240303T003747Z
LAST-MODIFIED:20240303T003748Z
UID:504-1720872000-1720879200@mattcarrollmusic.net
SUMMARY:Pleasant Hill\, MO - Manna Fellowship Church
DESCRIPTION:17617 S State Route 291\, Pleasant Hill\, MO 64080
URL:https://mattcarrollmusic.net/event/pleasant-hill-mo-manna-fellowship-church/
END:VEVENT
BEGIN:VEVENT
DTSTART;TZID=America/Chicago:20240707T170000
DTEND;TZID=America/Chicago:20240707T183000
DTSTAMP:20260425T105151
CREATED:20231227T023134Z
LAST-MODIFIED:20231227T023135Z
UID:465-1720371600-1720377000@mattcarrollmusic.net
SUMMARY:Greenfield\, IA - The Gathering Place
DESCRIPTION:Good News Concert \n\n\n\n102 SW Kent\, Greenfield\, IA
URL:https://mattcarrollmusic.net/event/greenfield-ia-the-gathering-place/
END:VEVENT
BEGIN:VEVENT
DTSTART;TZID=America/Chicago:20240630T163000
DTEND;TZID=America/Chicago:20240630T220000
DTSTAMP:20260425T105151
CREATED:20240409T173632Z
LAST-MODIFIED:20240409T173632Z
UID:527-1719765000-1719784800@mattcarrollmusic.net
SUMMARY:Hartville\, MO - Hartville City Park
DESCRIPTION:Celebration of Unity \n\n\n\n5239 Steel Bluff Road\, Hartville\, MO 65667
URL:https://mattcarrollmusic.net/event/hartville-mo-hartville-city-park/
END:VEVENT
BEGIN:VEVENT
DTSTART;TZID=America/Chicago:20240630T110000
DTEND;TZID=America/Chicago:20240630T120000
DTSTAMP:20260425T105151
CREATED:20240409T165437Z
LAST-MODIFIED:20240409T165438Z
UID:525-1719745200-1719748800@mattcarrollmusic.net
SUMMARY:Hartville\, MO - Elk Creek Baptist Church
DESCRIPTION:8871 Highway Tt\, Hartville\, MO  65667
URL:https://mattcarrollmusic.net/event/hartville-mo-elk-creek-baptist-church/
END:VEVENT
BEGIN:VEVENT
DTSTART;TZID=America/Chicago:20240625T120000
DTEND;TZID=America/Chicago:20240625T140000
DTSTAMP:20260425T105151
CREATED:20240303T005119Z
LAST-MODIFIED:20240303T005120Z
UID:509-1719316800-1719324000@mattcarrollmusic.net
SUMMARY:Columbia\, MO - Calvary Heritage Church
DESCRIPTION:Joy Luncheon  \n\n\n\n1703 W Worley St\, Columbia\, MO 65203
URL:https://mattcarrollmusic.net/event/columbia-mo-calvary-heritage-church/
END:VEVENT
BEGIN:VEVENT
DTSTART;TZID=America/Chicago:20240623T190000
DTEND;TZID=America/Chicago:20240623T200000
DTSTAMP:20260425T105151
CREATED:20240615T151317Z
LAST-MODIFIED:20240615T151317Z
UID:581-1719169200-1719172800@mattcarrollmusic.net
SUMMARY:Brunswick\, MO - Courtyard
DESCRIPTION:downtown Brunswick
URL:https://mattcarrollmusic.net/event/brunswick-mo-courtyard/
END:VEVENT
BEGIN:VEVENT
DTSTART;TZID=America/Chicago:20240623T100000
DTEND;TZID=America/Chicago:20240623T113000
DTSTAMP:20260425T105151
CREATED:20231227T022728Z
LAST-MODIFIED:20231227T022729Z
UID:463-1719136800-1719142200@mattcarrollmusic.net
SUMMARY:Columbia\, MO - Prairie Grove Baptist Church
DESCRIPTION:860 N East Park Ln\, Columbia\, MO
URL:https://mattcarrollmusic.net/event/columbia-mo-prairie-grove-baptist-church-2/
END:VEVENT
BEGIN:VEVENT
DTSTART;TZID=America/Chicago:20240615T180000
DTEND;TZID=America/Chicago:20240615T193000
DTSTAMP:20260425T105151
CREATED:20240409T164459Z
LAST-MODIFIED:20240409T164500Z
UID:521-1718474400-1718479800@mattcarrollmusic.net
SUMMARY:Wayland\, MO - Southern Baptist Fellowship
DESCRIPTION:W Highway 136\, Wayland\, MO 63472
URL:https://mattcarrollmusic.net/event/wayland-mo-southern-baptist-fellowship/
END:VEVENT
BEGIN:VEVENT
DTSTART;TZID=America/Chicago:20240609T180000
DTEND;TZID=America/Chicago:20240609T200000
DTSTAMP:20260425T105151
CREATED:20240303T003320Z
LAST-MODIFIED:20240303T003321Z
UID:500-1717956000-1717963200@mattcarrollmusic.net
SUMMARY:Rock Valley\, IA - Faith Church
DESCRIPTION:with DeLawder Family & Ambassadors of Grace \n\n\n\n1305 7th Street\, Rock Valley\, IA 51247
URL:https://mattcarrollmusic.net/event/rock-valley-ia-faith-church/
END:VEVENT
BEGIN:VEVENT
DTSTART;TZID=America/Chicago:20240609T100000
DTEND;TZID=America/Chicago:20240609T113000
DTSTAMP:20260425T105151
CREATED:20240409T190657Z
LAST-MODIFIED:20240409T190657Z
UID:541-1717927200-1717932600@mattcarrollmusic.net
SUMMARY:Council Bluffs\, IA - Harmony Court Senior Living
DESCRIPTION:combined service of Gethsemane & Bethany Presbyterian Churches. Concert with Ambassadors of Grace & Larry DeLawder Family \n\n\n\n173 Bennett Ave\, Council Bluffs\, IA 51503 (3rd floor of Harmony Court Senior Living)
URL:https://mattcarrollmusic.net/event/council-bluffs-ia-harmony-court-senior-living/
END:VEVENT
BEGIN:VEVENT
DTSTART;TZID=America/Chicago:20240607T180000
DTEND;TZID=America/Chicago:20240607T200000
DTSTAMP:20260425T105151
CREATED:20240303T003509Z
LAST-MODIFIED:20240303T003510Z
UID:502-1717783200-1717790400@mattcarrollmusic.net
SUMMARY:Council Bluffs\, IA - Salvation Army Church
DESCRIPTION:with DeLawder Family & Ambassadors of Grace \n\n\n\n715 N 16th St\, Council Bluffs\, IA 51501
URL:https://mattcarrollmusic.net/event/council-bluffs-ia-salvation-army-church/
END:VEVENT
BEGIN:VEVENT
DTSTART;TZID=America/Chicago:20240602T140000
DTEND;TZID=America/Chicago:20240602T150000
DTSTAMP:20260425T105151
CREATED:20240409T173617Z
LAST-MODIFIED:20240409T173618Z
UID:517-1717336800-1717340400@mattcarrollmusic.net
SUMMARY:Macon\, MO - Hugh & Janie Teter 60th Anniversary Celebration
DESCRIPTION:Private Event at Macon First Baptist Church \n\n\n\nPlease come and join us if you know Hugh and Janie Teter
URL:https://mattcarrollmusic.net/event/macon-mo-hugh-janie-teter-60th-anniversary-celebration/
END:VEVENT
BEGIN:VEVENT
DTSTART;TZID=America/Chicago:20240528T180000
DTEND;TZID=America/Chicago:20240528T190000
DTSTAMP:20260425T105151
CREATED:20240409T173744Z
LAST-MODIFIED:20240409T173744Z
UID:519-1716919200-1716922800@mattcarrollmusic.net
SUMMARY:Charleston\, WV - Putney Memorial Church
DESCRIPTION:3405 Riverlane Dr\, Charleston\, WV 25306
URL:https://mattcarrollmusic.net/event/charleston-wv-putney-memorial-church/
END:VEVENT
BEGIN:VEVENT
DTSTART;TZID=America/Chicago:20240526T180000
DTEND;TZID=America/Chicago:20240526T193000
DTSTAMP:20260425T105151
CREATED:20240409T163402Z
LAST-MODIFIED:20240409T163402Z
UID:515-1716746400-1716751800@mattcarrollmusic.net
SUMMARY:South Charleston\, WV - Mountain Heights Church
DESCRIPTION:1201Chestnut St\, South Charleston\, WV 25309
URL:https://mattcarrollmusic.net/event/south-charleston-wv-mountain-heights-church/
END:VEVENT
BEGIN:VEVENT
DTSTART;TZID=America/Chicago:20240526T100000
DTEND;TZID=America/Chicago:20240526T113000
DTSTAMP:20260425T105151
CREATED:20240303T002420Z
LAST-MODIFIED:20240303T002421Z
UID:498-1716717600-1716723000@mattcarrollmusic.net
SUMMARY:Cross Lanes\, WV - Cross Lanes Bible Church
DESCRIPTION:5442 Big Tyler Road\, Cross Lanes\, WV 25313
URL:https://mattcarrollmusic.net/event/cross-lanes-wv-cross-lanes-bible-church/
END:VEVENT
BEGIN:VEVENT
DTSTART;TZID=America/Chicago:20240519T093000
DTEND;TZID=America/Chicago:20240519T110000
DTSTAMP:20260425T105151
CREATED:20240409T162816Z
LAST-MODIFIED:20240409T162817Z
UID:513-1716111000-1716116400@mattcarrollmusic.net
SUMMARY:Trenton\, MO - Dockery Chapel Church
DESCRIPTION:386 SW Highway WW\, Trenton\, MO 64683
URL:https://mattcarrollmusic.net/event/trenton-mo-dockery-chapel-church/
END:VEVENT
BEGIN:VEVENT
DTSTART;TZID=America/Chicago:20240428T140000
DTEND;TZID=America/Chicago:20240428T153000
DTSTAMP:20260425T105151
CREATED:20240303T002102Z
LAST-MODIFIED:20240303T002103Z
UID:496-1714312800-1714318200@mattcarrollmusic.net
SUMMARY:Macon\, MO - Bethlehem Church
DESCRIPTION:36755 State Highway PP\, Anabel\, MO 63552
URL:https://mattcarrollmusic.net/event/macon-mo-bethlehem-church/
END:VEVENT
BEGIN:VEVENT
DTSTART;TZID=America/Chicago:20240421T180000
DTEND;TZID=America/Chicago:20240421T193000
DTSTAMP:20260425T105151
CREATED:20240303T001531Z
LAST-MODIFIED:20240303T001532Z
UID:492-1713722400-1713727800@mattcarrollmusic.net
SUMMARY:Pella\, IA - New Hope Community Church
DESCRIPTION:1301 Washington St\, Pella\, IA 50219
URL:https://mattcarrollmusic.net/event/pella-ia-new-hope-community-church/
END:VEVENT
BEGIN:VEVENT
DTSTART;TZID=America/Chicago:20240407T093000
DTEND;TZID=America/Chicago:20240407T110000
DTSTAMP:20260425T105151
CREATED:20240303T001135Z
LAST-MODIFIED:20240303T001136Z
UID:490-1712482200-1712487600@mattcarrollmusic.net
SUMMARY:Madison\, MO - Oak Grove Baptist Church
DESCRIPTION:starts at 9:45 am \n\n\n\n24977 Highway 151\, Madison\, Mo 65263
URL:https://mattcarrollmusic.net/event/madison-mo-oak-grove-baptist-church-2/
END:VEVENT
BEGIN:VEVENT
DTSTART;TZID=America/Chicago:20240324T170000
DTEND;TZID=America/Chicago:20240324T190000
DTSTAMP:20260425T105151
CREATED:20240303T000753Z
LAST-MODIFIED:20240303T000754Z
UID:488-1711299600-1711306800@mattcarrollmusic.net
SUMMARY:Centralia\, MO - First Baptist Church
DESCRIPTION:with Ambassadors of Grace & Don Shire \n\n\n\n101 S Collier St\, Centralia\, MO 65240
URL:https://mattcarrollmusic.net/event/centralia-mo-first-baptist-church/
END:VEVENT
BEGIN:VEVENT
DTSTART;TZID=America/Chicago:20240324T110000
DTEND;TZID=America/Chicago:20240324T120000
DTSTAMP:20260425T105151
CREATED:20240303T000202Z
LAST-MODIFIED:20240303T000203Z
UID:486-1711278000-1711281600@mattcarrollmusic.net
SUMMARY:Callao\, MO - Kaseyville Baptist Church
DESCRIPTION:38761 State Hwy 3\, Callao\, MO 63534
URL:https://mattcarrollmusic.net/event/callao-mo-kaseyville-baptist-church/
END:VEVENT
BEGIN:VEVENT
DTSTART;TZID=America/Chicago:20240323T110000
DTEND;TZID=America/Chicago:20240323T180000
DTSTAMP:20260425T105151
CREATED:20231227T015527Z
LAST-MODIFIED:20231227T015528Z
UID:459-1711191600-1711216800@mattcarrollmusic.net
SUMMARY:Columbia\, MO - Liberty Baptist Church
DESCRIPTION:Spring Sing  \n\n\n\n7461 N Brown Station Rd\, Columbia\, MO
URL:https://mattcarrollmusic.net/event/columbia-mo-liberty-baptist-church/
END:VEVENT
BEGIN:VEVENT
DTSTART;TZID=America/Chicago:20240322T183000
DTEND;TZID=America/Chicago:20240322T203000
DTSTAMP:20260425T105151
CREATED:20240302T235814Z
LAST-MODIFIED:20240302T235815Z
UID:484-1711132200-1711139400@mattcarrollmusic.net
SUMMARY:Kirksville\, MO - Fellowship Baptist Church
DESCRIPTION:with Ambassadors of Grace & Don Shire \n\n\n\n1701 Jamison St\, Kirksville\, MO
URL:https://mattcarrollmusic.net/event/kirksville-mo-fellowship-baptist-church/
END:VEVENT
BEGIN:VEVENT
DTSTART;TZID=America/Chicago:20240319T180000
DTEND;TZID=America/Chicago:20240319T200000
DTSTAMP:20260425T105151
CREATED:20231227T020802Z
LAST-MODIFIED:20231227T020803Z
UID:461-1710871200-1710878400@mattcarrollmusic.net
SUMMARY:Moberly\, MO - CCCB
DESCRIPTION:Gideons Pastor Appreciation Banquet \n\n\n\n911 E Urbandale Dr\, Moberly\, MO
URL:https://mattcarrollmusic.net/event/moberly-mo-cccb/
END:VEVENT
BEGIN:VEVENT
DTSTART;TZID=America/Chicago:20240128T170000
DTEND;TZID=America/Chicago:20240128T183000
DTSTAMP:20260425T105151
CREATED:20231227T015107Z
LAST-MODIFIED:20231227T015108Z
UID:457-1706461200-1706466600@mattcarrollmusic.net
SUMMARY:Memphis\, MO - First Baptist Church
DESCRIPTION:910 N Weaver Ave\, Memphis\, MO
URL:https://mattcarrollmusic.net/event/memphis-mo-first-baptist-church/
END:VEVENT
BEGIN:VEVENT
DTSTART;TZID=America/Chicago:20231231T180000
DTEND;TZID=America/Chicago:20231231T210000
DTSTAMP:20260425T105151
CREATED:20231227T014655Z
LAST-MODIFIED:20231227T014655Z
UID:455-1704045600-1704056400@mattcarrollmusic.net
SUMMARY:Lebanon\, MO - Mighty Oak Lodge
DESCRIPTION:Truelove Quartet & Friends Mighty Gospel New Years Eve Sing \n\n\n\n1720 Lynn Street\, Lebanon\, MO
URL:https://mattcarrollmusic.net/event/lebanon-mo-mighty-oak-lodge/
END:VEVENT
BEGIN:VEVENT
DTSTART;TZID=America/Chicago:20231231T110000
DTEND;TZID=America/Chicago:20231231T120000
DTSTAMP:20260425T105151
CREATED:20231227T014338Z
LAST-MODIFIED:20231227T014339Z
UID:453-1704020400-1704024000@mattcarrollmusic.net
SUMMARY:Conway\, MO - Grace Bible Baptist Church
DESCRIPTION:#4 Goose Creek Rd\, Conway\, MO
URL:https://mattcarrollmusic.net/event/conway-mo-grace-bible-baptist-church/
END:VEVENT
BEGIN:VEVENT
DTSTART;TZID=America/Chicago:20231209T180000
DTEND;TZID=America/Chicago:20231209T193000
DTSTAMP:20260425T105151
CREATED:20231129T025122Z
LAST-MODIFIED:20231129T025123Z
UID:446-1702144800-1702150200@mattcarrollmusic.net
SUMMARY:Madison\, MO - Oak Grove Baptist Church
DESCRIPTION:24977 Hwy 151\, Madison\, MO  \n\n\n\nwith Ambassadors of Grace
URL:https://mattcarrollmusic.net/event/madison-mo-oak-grove-baptist-church/
END:VEVENT
BEGIN:VEVENT
DTSTART;TZID=America/Chicago:20231203T100000
DTEND;TZID=America/Chicago:20231203T113000
DTSTAMP:20260425T105151
CREATED:20231129T025236Z
LAST-MODIFIED:20231129T025237Z
UID:443-1701597600-1701603000@mattcarrollmusic.net
SUMMARY:Marceline\, MO - Bethany Baptist Church
DESCRIPTION:305 E Howell\, Marceline\, MO \n\n\n\nwith Ambassadors of Grace
URL:https://mattcarrollmusic.net/event/marceline-mo-bethany-baptist-church/
END:VEVENT
BEGIN:VEVENT
DTSTART;TZID=America/Chicago:20231201T190000
DTEND;TZID=America/Chicago:20231201T210000
DTSTAMP:20260425T105151
CREATED:20231129T025503Z
LAST-MODIFIED:20231129T025504Z
UID:448-1701457200-1701464400@mattcarrollmusic.net
SUMMARY:Mexico\, MO - First Assembly of God
DESCRIPTION:1920 Lakeview Rd\, Mexico\, MO \n\n\n\nbenefit concert for KJAB radio station with Ambassadors of Grace
URL:https://mattcarrollmusic.net/event/mexico-mo-first-assembly-of-god/
END:VEVENT
END:VCALENDAR