BEGIN:VCALENDAR
VERSION:2.0
PRODID:-//Matt Carroll Music - ECPv6.15.20//NONSGML v1.0//EN
CALSCALE:GREGORIAN
METHOD:PUBLISH
X-WR-CALNAME:Matt Carroll Music
X-ORIGINAL-URL:https://mattcarrollmusic.net
X-WR-CALDESC:Events for Matt Carroll Music
REFRESH-INTERVAL;VALUE=DURATION:PT1H
X-Robots-Tag:noindex
X-PUBLISHED-TTL:PT1H
BEGIN:VTIMEZONE
TZID:America/Chicago
BEGIN:DAYLIGHT
TZOFFSETFROM:-0600
TZOFFSETTO:-0500
TZNAME:CDT
DTSTART:20230312T080000
END:DAYLIGHT
BEGIN:STANDARD
TZOFFSETFROM:-0500
TZOFFSETTO:-0600
TZNAME:CST
DTSTART:20231105T070000
END:STANDARD
BEGIN:DAYLIGHT
TZOFFSETFROM:-0600
TZOFFSETTO:-0500
TZNAME:CDT
DTSTART:20240310T080000
END:DAYLIGHT
BEGIN:STANDARD
TZOFFSETFROM:-0500
TZOFFSETTO:-0600
TZNAME:CST
DTSTART:20241103T070000
END:STANDARD
BEGIN:DAYLIGHT
TZOFFSETFROM:-0600
TZOFFSETTO:-0500
TZNAME:CDT
DTSTART:20250309T080000
END:DAYLIGHT
BEGIN:STANDARD
TZOFFSETFROM:-0500
TZOFFSETTO:-0600
TZNAME:CST
DTSTART:20251102T070000
END:STANDARD
END:VTIMEZONE
BEGIN:VEVENT
DTSTART;TZID=America/Chicago:20241103T110000
DTEND;TZID=America/Chicago:20241103T123000
DTSTAMP:20260425T061101
CREATED:20241002T204557Z
LAST-MODIFIED:20241002T204558Z
UID:598-1730631600-1730637000@mattcarrollmusic.net
SUMMARY:Atlanta\, MO - Chariton Ridge Baptist Church
DESCRIPTION:19207 Hwy 3 Atlanta\, MO 63530
URL:https://mattcarrollmusic.net/event/atlanta-mo-chariton-ridge-baptist-church/
END:VEVENT
BEGIN:VEVENT
DTSTART;TZID=America/Chicago:20241026T190000
DTEND;TZID=America/Chicago:20241026T220000
DTSTAMP:20260425T061101
CREATED:20240604T020612Z
LAST-MODIFIED:20240604T020613Z
UID:577-1729969200-1729980000@mattcarrollmusic.net
SUMMARY:Palmyra\, MO - Ridgerunners Jamboree
DESCRIPTION:@ Halls Hall – 220 S Main St\, Palmyra\, MO 63461
URL:https://mattcarrollmusic.net/event/palmyra-mo-ridgerunners-jamboree/
END:VEVENT
BEGIN:VEVENT
DTSTART;TZID=America/Chicago:20241019T190000
DTEND;TZID=America/Chicago:20241019T220000
DTSTAMP:20260425T061101
CREATED:20240409T195948Z
LAST-MODIFIED:20240409T195948Z
UID:564-1729364400-1729375200@mattcarrollmusic.net
SUMMARY:Stoutsville\, MO - Grandmas Country Music
DESCRIPTION:23024 Highway 107\, Stoutsville\, MO 65283
URL:https://mattcarrollmusic.net/event/stoutsville-mo-grandmas-country-music/
END:VEVENT
BEGIN:VEVENT
DTSTART;TZID=America/Chicago:20241013T180000
DTEND;TZID=America/Chicago:20241013T193000
DTSTAMP:20260425T061101
CREATED:20240828T114951Z
LAST-MODIFIED:20240828T114951Z
UID:587-1728842400-1728847800@mattcarrollmusic.net
SUMMARY:Marceline\, MO - First Baptist Church
DESCRIPTION:119 W Ritchie Ave\, Marceline\, MO 64658
URL:https://mattcarrollmusic.net/event/marceline-mo-first-baptist-church/
END:VEVENT
BEGIN:VEVENT
DTSTART;TZID=America/Chicago:20241013T103000
DTEND;TZID=America/Chicago:20241013T120000
DTSTAMP:20260425T061101
CREATED:20240409T200001Z
LAST-MODIFIED:20240409T200001Z
UID:562-1728815400-1728820800@mattcarrollmusic.net
SUMMARY:Smithville\, MO - Mt. Olivet Christian Church
DESCRIPTION:Service starts at 10:45. \n\n\n\n13120 Mount Olivet Rd\, Smithville\, MO 64089
URL:https://mattcarrollmusic.net/event/smithville-mo-mt-olivet-christian-church/
END:VEVENT
BEGIN:VEVENT
DTSTART;TZID=America/Chicago:20241004T120000
DTEND;TZID=America/Chicago:20241005T190000
DTSTAMP:20260425T061101
CREATED:20240409T200010Z
LAST-MODIFIED:20240409T200010Z
UID:560-1728043200-1728154800@mattcarrollmusic.net
SUMMARY:Des Moines\, IA - Midwest Southern Gospel Association
DESCRIPTION:Holiday Inn Express – Des Moines Airport  \n\n\n\n6111 Fleur Drive\, Des Moines\, IA 50321  \n\n\n\ntime TBA
URL:https://mattcarrollmusic.net/event/des-moines-ia-midwest-southern-gospel-association/
END:VEVENT
BEGIN:VEVENT
DTSTART;TZID=America/Chicago:20240928T180000
DTEND;TZID=America/Chicago:20240928T203000
DTSTAMP:20260425T061101
CREATED:20240409T200021Z
LAST-MODIFIED:20240409T200021Z
UID:557-1727546400-1727555400@mattcarrollmusic.net
SUMMARY:Centralia\, MO - Crossroads Cathedral
DESCRIPTION:20th Annual Benefit concert for Coyote Hills. Reunion of the groups who have been involved in the benefit concerts over the last 19 years. \n\n\n\n229 S Allen St\, Centralia\, MO 65240
URL:https://mattcarrollmusic.net/event/centralia-mo-crossroads-cathedral/
END:VEVENT
BEGIN:VEVENT
DTSTART;TZID=America/Chicago:20240917T100000
DTEND;TZID=America/Chicago:20240917T140000
DTSTAMP:20260425T061101
CREATED:20240409T200031Z
LAST-MODIFIED:20240409T200031Z
UID:555-1726567200-1726581600@mattcarrollmusic.net
SUMMARY:Lees Summit\, MO - Abundant Life Church
DESCRIPTION:AJOY luncheon with Larry DeLawder Family & Matt Carroll Family. \n\n\n\n304 SW Persels Rd\, Lees Summit\, MO 64081
URL:https://mattcarrollmusic.net/event/lees-summit-mo-abundant-life-church/
END:VEVENT
BEGIN:VEVENT
DTSTART;TZID=America/Chicago:20240915T103000
DTEND;TZID=America/Chicago:20240915T120000
DTSTAMP:20260425T061101
CREATED:20240409T200043Z
LAST-MODIFIED:20240409T200044Z
UID:553-1726396200-1726401600@mattcarrollmusic.net
SUMMARY:Oklahoma City\, OK - 40th Street Baptist Church
DESCRIPTION:Service starts @ 10:45. Larry DeLawder Family & Matt Carroll Family.  \n\n\n\n1801 NW 40th St\, Oklahoma City\, OK 73118
URL:https://mattcarrollmusic.net/event/oklahoma-city-ok-40th-street-baptist-church/
END:VEVENT
BEGIN:VEVENT
DTSTART;TZID=America/Chicago:20240914T170000
DTEND;TZID=America/Chicago:20240914T183000
DTSTAMP:20260425T061101
CREATED:20240409T200226Z
LAST-MODIFIED:20240912T185356Z
UID:551-1726333200-1726338600@mattcarrollmusic.net
SUMMARY:CANCELED Bethany\, OK - Tulakes Baptist Church
DESCRIPTION:Larry DeLawder Family & Matt Carroll Family. \n\n\n\n6715 NW 50th St\, Bethany\, OK 73008
URL:https://mattcarrollmusic.net/event/bethany-ok-tulakes-baptist-church/
END:VEVENT
BEGIN:VEVENT
DTSTART;TZID=America/Chicago:20240913T190000
DTEND;TZID=America/Chicago:20240913T203000
DTSTAMP:20260425T061101
CREATED:20240409T203653Z
LAST-MODIFIED:20240409T203654Z
UID:549-1726254000-1726259400@mattcarrollmusic.net
SUMMARY:Yukon\, OK - Sara Road Baptist Church
DESCRIPTION:with Larry DeLawder Family \n\n\n\n2015 N Sara Rd\, Yukon\, OK 73125
URL:https://mattcarrollmusic.net/event/yukon-ok-sara-road-baptist-church/
END:VEVENT
BEGIN:VEVENT
DTSTART;TZID=America/Chicago:20240908T183000
DTEND;TZID=America/Chicago:20240908T193000
DTSTAMP:20260425T061101
CREATED:20240828T114644Z
LAST-MODIFIED:20240828T114645Z
UID:547-1725820200-1725823800@mattcarrollmusic.net
SUMMARY:Beaufort\, SC - Grays Hill Baptist Church
DESCRIPTION:2749 Trask Pkwy\, Beaufort\, SC 29906
URL:https://mattcarrollmusic.net/event/beaufort-sc-grays-hill-baptist-church/
END:VEVENT
BEGIN:VEVENT
DTSTART;TZID=America/Chicago:20240829T183000
DTEND;TZID=America/Chicago:20240829T193000
DTSTAMP:20260425T061101
CREATED:20240828T114604Z
LAST-MODIFIED:20240828T114605Z
UID:545-1724956200-1724959800@mattcarrollmusic.net
SUMMARY:Fort Lawn\, SC - Carolinas Cowboy Church
DESCRIPTION:5718 Old Twenty One Rd\, Fort Lawn\, SC 29714-8705
URL:https://mattcarrollmusic.net/event/fort-lawn-sc-carolinas-cowboy-church/
END:VEVENT
BEGIN:VEVENT
DTSTART;TZID=America/Chicago:20240825T180000
DTEND;TZID=America/Chicago:20240825T190000
DTSTAMP:20260425T061101
CREATED:20240604T020130Z
LAST-MODIFIED:20240604T020132Z
UID:575-1724608800-1724612400@mattcarrollmusic.net
SUMMARY:Keokuk\, IA - Corner Stone Church
DESCRIPTION:928 Blondeau St\, Keokuk\, IA 52632
URL:https://mattcarrollmusic.net/event/keokuk-ia-corner-stone-church/
END:VEVENT
BEGIN:VEVENT
DTSTART;TZID=America/Chicago:20240825T100000
DTEND;TZID=America/Chicago:20240825T113000
DTSTAMP:20260425T061101
CREATED:20240409T171342Z
LAST-MODIFIED:20240409T171343Z
UID:531-1724580000-1724585400@mattcarrollmusic.net
SUMMARY:Wayland\, IA - Fern Cliff Evangelical Free Church
DESCRIPTION:Service starts at 10:15 am \n\n\n\n2739 Fern Cliff Rd\, Wayland\, IA 52654
URL:https://mattcarrollmusic.net/event/wayland-ia-fern-cliff-evangelical-free-church/
END:VEVENT
BEGIN:VEVENT
DTSTART;TZID=America/Chicago:20240823T130000
DTEND;TZID=America/Chicago:20240824T210000
DTSTAMP:20260425T061101
CREATED:20240409T172231Z
LAST-MODIFIED:20240409T172232Z
UID:473-1724418000-1724533200@mattcarrollmusic.net
SUMMARY:Kalona\, IA - Windmill Ridge Campground
DESCRIPTION:Kalona Gospel Sing \n\n\n\nWindmill Ridge Campground\, 2114 140th St\, Kalona\, IA
URL:https://mattcarrollmusic.net/event/kalona-ia-windmill-ridge-campground/
END:VEVENT
BEGIN:VEVENT
DTSTART;TZID=America/Chicago:20240823T120000
DTEND;TZID=America/Chicago:20240823T140000
DTSTAMP:20260425T061101
CREATED:20240409T171652Z
LAST-MODIFIED:20240409T171652Z
UID:534-1724414400-1724421600@mattcarrollmusic.net
SUMMARY:Centralia\, MO - First Baptist Church
DESCRIPTION:AJOY Luncheon \n\n\n\n101 S Collier St\, Centralia\, MO 65240
URL:https://mattcarrollmusic.net/event/centralia-mo-first-baptist-church-2/
END:VEVENT
BEGIN:VEVENT
DTSTART;TZID=America/Chicago:20240822T183000
DTEND;TZID=America/Chicago:20240822T200000
DTSTAMP:20260425T061101
CREATED:20241002T203759Z
LAST-MODIFIED:20241002T204125Z
UID:594-1724351400-1724356800@mattcarrollmusic.net
SUMMARY:Macon\, MO - First Baptist Church
DESCRIPTION:Larry DeLawder Family\, Ambassadors of Grace\, and Matt Carroll Family \n\n\n\n302 N Rutherford St\, Macon\, MO 63552
URL:https://mattcarrollmusic.net/event/macon-mo-first-baptist-church/
END:VEVENT
BEGIN:VEVENT
DTSTART;TZID=America/Chicago:20240818T100000
DTEND;TZID=America/Chicago:20240818T113000
DTSTAMP:20260425T061101
CREATED:20240409T172829Z
LAST-MODIFIED:20240409T172829Z
UID:523-1723975200-1723980600@mattcarrollmusic.net
SUMMARY:Oshkosh\, WI - Community Baptist Church of Allenville
DESCRIPTION:6629 Hilltop Rd\, Oshkosh\, WI 54904
URL:https://mattcarrollmusic.net/event/oshkosh-wi-community-baptist-church-of-allenville/
END:VEVENT
BEGIN:VEVENT
DTSTART;TZID=America/Chicago:20240816T110000
DTEND;TZID=America/Chicago:20240817T190000
DTSTAMP:20260425T061101
CREATED:20240409T172340Z
LAST-MODIFIED:20240409T172341Z
UID:471-1723806000-1723921200@mattcarrollmusic.net
SUMMARY:Hilbert\, WI - Hilbert Civic Park
DESCRIPTION:Voices of Peace Gospel Fest \n\n\n\n201 N 8th St\, Hilbert\, WI
URL:https://mattcarrollmusic.net/event/hilbert-wi-hilbert-civic-park/
END:VEVENT
BEGIN:VEVENT
DTSTART;TZID=America/Chicago:20240810T110000
DTEND;TZID=America/Chicago:20240810T180000
DTSTAMP:20260425T061101
CREATED:20240409T172854Z
LAST-MODIFIED:20240409T172855Z
UID:469-1723287600-1723312800@mattcarrollmusic.net
SUMMARY:Fulton\, MO - Heart of MO Gospel Sing
DESCRIPTION:Time & Venue TBA
URL:https://mattcarrollmusic.net/event/fulton-mo-heart-of-mo-gospel-sing/
END:VEVENT
BEGIN:VEVENT
DTSTART;TZID=America/Chicago:20240804T103000
DTEND;TZID=America/Chicago:20240804T120000
DTSTAMP:20260425T061101
CREATED:20240409T170251Z
LAST-MODIFIED:20240409T170252Z
UID:529-1722767400-1722772800@mattcarrollmusic.net
SUMMARY:Earlham\, IA - Early Chapel Christian Church
DESCRIPTION:1440 165th St\, Earlham\, IA 50072
URL:https://mattcarrollmusic.net/event/earlham-ia-early-chapel-christian-church/
END:VEVENT
BEGIN:VEVENT
DTSTART;TZID=America/Chicago:20240802T150000
DTEND;TZID=America/Chicago:20240803T190000
DTSTAMP:20260425T061101
CREATED:20240409T172746Z
LAST-MODIFIED:20240409T172747Z
UID:467-1722610800-1722711600@mattcarrollmusic.net
SUMMARY:Guthrie Center\, IA - Guthrie County Fairgrounds
DESCRIPTION:Time TBA
URL:https://mattcarrollmusic.net/event/guthrie-center-ia-guthrie-county-fairgrounds/
END:VEVENT
BEGIN:VEVENT
DTSTART;TZID=America/Chicago:20240728T180000
DTEND;TZID=America/Chicago:20240728T200000
DTSTAMP:20260425T061101
CREATED:20240303T004609Z
LAST-MODIFIED:20240303T004609Z
UID:506-1722189600-1722196800@mattcarrollmusic.net
SUMMARY:Memphis\, MO - First Baptist Church
DESCRIPTION:Parking Lot BBQ & Concert \n\n\n\n910 N Weaver Ave\, Memphis\, MO 63555
URL:https://mattcarrollmusic.net/event/memphis-mo-first-baptist-church-2/
END:VEVENT
BEGIN:VEVENT
DTSTART;TZID=America/Chicago:20240714T103000
DTEND;TZID=America/Chicago:20240714T120000
DTSTAMP:20260425T061101
CREATED:20240604T015837Z
LAST-MODIFIED:20240604T015839Z
UID:573-1720953000-1720958400@mattcarrollmusic.net
SUMMARY:Harrisonville\, MO - Abiding Love Baptist Church
DESCRIPTION:24300 E State Route Ee\, Harrisonville\, MO 64701 \n\n\n\nchurch service 10:40 am
URL:https://mattcarrollmusic.net/event/harrisonville-mo-abiding-love-baptist-church/
END:VEVENT
BEGIN:VEVENT
DTSTART;TZID=America/Chicago:20240713T120000
DTEND;TZID=America/Chicago:20240713T140000
DTSTAMP:20260425T061101
CREATED:20240303T003747Z
LAST-MODIFIED:20240303T003748Z
UID:504-1720872000-1720879200@mattcarrollmusic.net
SUMMARY:Pleasant Hill\, MO - Manna Fellowship Church
DESCRIPTION:17617 S State Route 291\, Pleasant Hill\, MO 64080
URL:https://mattcarrollmusic.net/event/pleasant-hill-mo-manna-fellowship-church/
END:VEVENT
BEGIN:VEVENT
DTSTART;TZID=America/Chicago:20240707T170000
DTEND;TZID=America/Chicago:20240707T183000
DTSTAMP:20260425T061101
CREATED:20231227T023134Z
LAST-MODIFIED:20231227T023135Z
UID:465-1720371600-1720377000@mattcarrollmusic.net
SUMMARY:Greenfield\, IA - The Gathering Place
DESCRIPTION:Good News Concert \n\n\n\n102 SW Kent\, Greenfield\, IA
URL:https://mattcarrollmusic.net/event/greenfield-ia-the-gathering-place/
END:VEVENT
BEGIN:VEVENT
DTSTART;TZID=America/Chicago:20240630T163000
DTEND;TZID=America/Chicago:20240630T220000
DTSTAMP:20260425T061101
CREATED:20240409T173632Z
LAST-MODIFIED:20240409T173632Z
UID:527-1719765000-1719784800@mattcarrollmusic.net
SUMMARY:Hartville\, MO - Hartville City Park
DESCRIPTION:Celebration of Unity \n\n\n\n5239 Steel Bluff Road\, Hartville\, MO 65667
URL:https://mattcarrollmusic.net/event/hartville-mo-hartville-city-park/
END:VEVENT
BEGIN:VEVENT
DTSTART;TZID=America/Chicago:20240630T110000
DTEND;TZID=America/Chicago:20240630T120000
DTSTAMP:20260425T061101
CREATED:20240409T165437Z
LAST-MODIFIED:20240409T165438Z
UID:525-1719745200-1719748800@mattcarrollmusic.net
SUMMARY:Hartville\, MO - Elk Creek Baptist Church
DESCRIPTION:8871 Highway Tt\, Hartville\, MO  65667
URL:https://mattcarrollmusic.net/event/hartville-mo-elk-creek-baptist-church/
END:VEVENT
BEGIN:VEVENT
DTSTART;TZID=America/Chicago:20240625T120000
DTEND;TZID=America/Chicago:20240625T140000
DTSTAMP:20260425T061101
CREATED:20240303T005119Z
LAST-MODIFIED:20240303T005120Z
UID:509-1719316800-1719324000@mattcarrollmusic.net
SUMMARY:Columbia\, MO - Calvary Heritage Church
DESCRIPTION:Joy Luncheon  \n\n\n\n1703 W Worley St\, Columbia\, MO 65203
URL:https://mattcarrollmusic.net/event/columbia-mo-calvary-heritage-church/
END:VEVENT
END:VCALENDAR