BEGIN:VCALENDAR
VERSION:2.0
PRODID:-//Matt Carroll Music - ECPv6.15.20//NONSGML v1.0//EN
CALSCALE:GREGORIAN
METHOD:PUBLISH
X-ORIGINAL-URL:https://mattcarrollmusic.net
X-WR-CALDESC:Events for Matt Carroll Music
REFRESH-INTERVAL;VALUE=DURATION:PT1H
X-Robots-Tag:noindex
X-PUBLISHED-TTL:PT1H
BEGIN:VTIMEZONE
TZID:America/Chicago
BEGIN:DAYLIGHT
TZOFFSETFROM:-0600
TZOFFSETTO:-0500
TZNAME:CDT
DTSTART:20240310T080000
END:DAYLIGHT
BEGIN:STANDARD
TZOFFSETFROM:-0500
TZOFFSETTO:-0600
TZNAME:CST
DTSTART:20241103T070000
END:STANDARD
BEGIN:DAYLIGHT
TZOFFSETFROM:-0600
TZOFFSETTO:-0500
TZNAME:CDT
DTSTART:20250309T080000
END:DAYLIGHT
BEGIN:STANDARD
TZOFFSETFROM:-0500
TZOFFSETTO:-0600
TZNAME:CST
DTSTART:20251102T070000
END:STANDARD
BEGIN:DAYLIGHT
TZOFFSETFROM:-0600
TZOFFSETTO:-0500
TZNAME:CDT
DTSTART:20260308T080000
END:DAYLIGHT
BEGIN:STANDARD
TZOFFSETFROM:-0500
TZOFFSETTO:-0600
TZNAME:CST
DTSTART:20261101T070000
END:STANDARD
END:VTIMEZONE
BEGIN:VEVENT
DTSTART;TZID=America/Chicago:20250309T110000
DTEND;TZID=America/Chicago:20250309T120000
DTSTAMP:20260425T110009
CREATED:20250308T011152Z
LAST-MODIFIED:20250308T011152Z
UID:612-1741518000-1741521600@mattcarrollmusic.net
SUMMARY:Fulton\, MO - Carrington Baptist Church
DESCRIPTION:with Ambassadors of Grace \n\n\n\n3301 State Highway H\, Fulton MO 65251
URL:https://mattcarrollmusic.net/event/fulton-mo-carrington-baptist-church-2/
END:VEVENT
BEGIN:VEVENT
DTSTART;TZID=America/Chicago:20250316T180000
DTEND;TZID=America/Chicago:20250316T193000
DTSTAMP:20260425T110009
CREATED:20250308T011341Z
LAST-MODIFIED:20250308T011342Z
UID:614-1742148000-1742153400@mattcarrollmusic.net
SUMMARY:Pella\, IA - New Hope Community Church
DESCRIPTION:1301 Washington St\, Pella\, IA 50219
URL:https://mattcarrollmusic.net/event/pella-ia-new-hope-community-church-2/
END:VEVENT
BEGIN:VEVENT
DTSTART;TZID=America/Chicago:20250322T123000
DTEND;TZID=America/Chicago:20250322T180000
DTSTAMP:20260425T110009
CREATED:20250308T011516Z
LAST-MODIFIED:20250308T011517Z
UID:616-1742646600-1742666400@mattcarrollmusic.net
SUMMARY:Columbia\, MO - Liberty Baptist Church
DESCRIPTION:Spring Sing 2025
URL:https://mattcarrollmusic.net/event/columbia-mo-liberty-baptist-church-2/
END:VEVENT
BEGIN:VEVENT
DTSTART;TZID=America/Chicago:20250328T180000
DTEND;TZID=America/Chicago:20250328T193000
DTSTAMP:20260425T110009
CREATED:20250308T011700Z
LAST-MODIFIED:20250308T011701Z
UID:618-1743184800-1743190200@mattcarrollmusic.net
SUMMARY:Memphis\, MO - First Baptist Church
DESCRIPTION:Revival
URL:https://mattcarrollmusic.net/event/memphis-mo-first-baptist-church-3/
END:VEVENT
BEGIN:VEVENT
DTSTART;TZID=America/Chicago:20250329T180000
DTEND;TZID=America/Chicago:20250329T193000
DTSTAMP:20260425T110009
CREATED:20250308T011738Z
LAST-MODIFIED:20250308T011800Z
UID:620-1743271200-1743276600@mattcarrollmusic.net
SUMMARY:Memphis\, MO - First Baptist Church
DESCRIPTION:Revival
URL:https://mattcarrollmusic.net/event/memphis-mo-first-baptist-church-4/
END:VEVENT
BEGIN:VEVENT
DTSTART;TZID=America/Chicago:20250330T103000
DTEND;TZID=America/Chicago:20250330T120000
DTSTAMP:20260425T110009
CREATED:20250308T011936Z
LAST-MODIFIED:20250308T011937Z
UID:623-1743330600-1743336000@mattcarrollmusic.net
SUMMARY:Memphis\, MO - First Baptist Church
DESCRIPTION:Revival 10:45 am & 6 pm
URL:https://mattcarrollmusic.net/event/memphis-mo-first-baptist-church-5/
END:VEVENT
BEGIN:VEVENT
DTSTART;TZID=America/Chicago:20250405T120000
DTEND;TZID=America/Chicago:20250405T170000
DTSTAMP:20260425T110009
CREATED:20250308T012045Z
LAST-MODIFIED:20250308T012045Z
UID:625-1743854400-1743872400@mattcarrollmusic.net
SUMMARY:O'Fallon\, MO - First Baptist Church
DESCRIPTION:Senior Adult luncheon
URL:https://mattcarrollmusic.net/event/ofallon-mo-first-baptist-church/
END:VEVENT
BEGIN:VEVENT
DTSTART;TZID=America/Chicago:20250406T170000
DTEND;TZID=America/Chicago:20250406T183000
DTSTAMP:20260425T110009
CREATED:20250308T012140Z
LAST-MODIFIED:20250308T012141Z
UID:627-1743958800-1743964200@mattcarrollmusic.net
SUMMARY:Greenfield\, IA - Good News Concert
DESCRIPTION:
URL:https://mattcarrollmusic.net/event/greenfield-ia-good-news-concert/
END:VEVENT
BEGIN:VEVENT
DTSTART;TZID=America/Chicago:20250413T093000
DTEND;TZID=America/Chicago:20250413T113000
DTSTAMP:20260425T110009
CREATED:20250308T012334Z
LAST-MODIFIED:20250308T012334Z
UID:629-1744536600-1744543800@mattcarrollmusic.net
SUMMARY:Madison\, MO - Oak Grove Baptist Church
DESCRIPTION:9:45 am
URL:https://mattcarrollmusic.net/event/madison-mo-oak-grove-baptist-church-4/
END:VEVENT
BEGIN:VEVENT
DTSTART;TZID=America/Chicago:20250418T190000
DTEND;TZID=America/Chicago:20250418T200000
DTSTAMP:20260425T110009
CREATED:20250418T020159Z
LAST-MODIFIED:20250418T020159Z
UID:634-1745002800-1745006400@mattcarrollmusic.net
SUMMARY:Atlanta\, MO - First Baptist Church
DESCRIPTION:Good Friday Service
URL:https://mattcarrollmusic.net/event/atlanta-mo-first-baptist-church/
END:VEVENT
BEGIN:VEVENT
DTSTART;TZID=America/Chicago:20250523T190000
DTEND;TZID=America/Chicago:20250523T203000
DTSTAMP:20260425T110009
CREATED:20250702T001327Z
LAST-MODIFIED:20250702T001328Z
UID:695-1748026800-1748032200@mattcarrollmusic.net
SUMMARY:Macon\, MO - Church on the Move
DESCRIPTION:
URL:https://mattcarrollmusic.net/event/macon-mo-church-on-the-move/
END:VEVENT
BEGIN:VEVENT
DTSTART;TZID=America/Chicago:20250530T183000
DTEND;TZID=America/Chicago:20250530T200000
DTSTAMP:20260425T110009
CREATED:20250418T020332Z
LAST-MODIFIED:20250418T020333Z
UID:636-1748629800-1748635200@mattcarrollmusic.net
SUMMARY:Dexter\, IA - The Roundhouse
DESCRIPTION:With The DeLawder Family & Ambassadors of Grace
URL:https://mattcarrollmusic.net/event/dexter-ia-the-roundhouse/
END:VEVENT
BEGIN:VEVENT
DTSTART;TZID=America/Chicago:20250601T090000
DTEND;TZID=America/Chicago:20250601T103000
DTSTAMP:20260425T110009
CREATED:20250421T202423Z
LAST-MODIFIED:20250421T204303Z
UID:691-1748768400-1748773800@mattcarrollmusic.net
SUMMARY:Council Bluffs\, IA - Gethsemane Presbyterian Church
DESCRIPTION:With Ambassadors of Grace & The DeLawder Family
URL:https://mattcarrollmusic.net/event/gethsemane-presbyterian-church/
END:VEVENT
BEGIN:VEVENT
DTSTART;TZID=America/Chicago:20250608T110000
DTEND;TZID=America/Chicago:20250608T123000
DTSTAMP:20260425T110009
CREATED:20250418T020428Z
LAST-MODIFIED:20250418T020429Z
UID:638-1749380400-1749385800@mattcarrollmusic.net
SUMMARY:Fulton\, MO - Carrington Baptist Church
DESCRIPTION:
URL:https://mattcarrollmusic.net/event/fulton-mo-carrington-baptist-church-3/
END:VEVENT
BEGIN:VEVENT
DTSTART;TZID=America/Chicago:20250622T100000
DTEND;TZID=America/Chicago:20250622T113000
DTSTAMP:20260425T110009
CREATED:20250308T012540Z
LAST-MODIFIED:20250308T012541Z
UID:631-1750586400-1750591800@mattcarrollmusic.net
SUMMARY:Columbia\, MO - Prairie Grove Baptist Church
DESCRIPTION:860 NE Park Ln\, Columbia\, MO 65201
URL:https://mattcarrollmusic.net/event/columbia-mo-prairie-grove-baptist-church-3/
END:VEVENT
BEGIN:VEVENT
DTSTART;TZID=America/Chicago:20250628T093000
DTEND;TZID=America/Chicago:20250628T100000
DTSTAMP:20260425T110009
CREATED:20250418T020517Z
LAST-MODIFIED:20250418T020518Z
UID:640-1751103000-1751104800@mattcarrollmusic.net
SUMMARY:Palmyra\, MO - The Ridgerunners Jubilee
DESCRIPTION:
URL:https://mattcarrollmusic.net/event/palmyra-mo-the-ridgerunners-jubilee/
END:VEVENT
BEGIN:VEVENT
DTSTART;TZID=America/Chicago:20250715T103000
DTEND;TZID=America/Chicago:20250715T123000
DTSTAMP:20260425T110009
CREATED:20250418T021009Z
LAST-MODIFIED:20250418T021010Z
UID:642-1752575400-1752582600@mattcarrollmusic.net
SUMMARY:Raytown\, MO - Connection Point Church
DESCRIPTION:Senior Adult luncheon (singing from 11-11:45)
URL:https://mattcarrollmusic.net/event/raytown-mo-connection-point-church/
END:VEVENT
BEGIN:VEVENT
DTSTART;TZID=America/Chicago:20250809T120000
DTEND;TZID=America/Chicago:20250809T180000
DTSTAMP:20260425T110009
CREATED:20250418T021111Z
LAST-MODIFIED:20250418T021112Z
UID:644-1754740800-1754762400@mattcarrollmusic.net
SUMMARY:Fulton\, MO - Heart of MO Gospel Sing
DESCRIPTION:
URL:https://mattcarrollmusic.net/event/fulton-mo-heart-of-mo-gospel-sing-2/
END:VEVENT
BEGIN:VEVENT
DTSTART;TZID=America/Chicago:20250810T140000
DTEND;TZID=America/Chicago:20250810T153000
DTSTAMP:20260425T110009
CREATED:20250418T021248Z
LAST-MODIFIED:20250418T021249Z
UID:646-1754834400-1754839800@mattcarrollmusic.net
SUMMARY:Ashland\, MO - Nashville Baptist Church
DESCRIPTION:
URL:https://mattcarrollmusic.net/event/ashland-mo-nashville-baptist-church/
END:VEVENT
BEGIN:VEVENT
DTSTART;TZID=America/Chicago:20250815T110000
DTEND;TZID=America/Chicago:20250816T190000
DTSTAMP:20260425T110009
CREATED:20250418T021420Z
LAST-MODIFIED:20250418T021421Z
UID:648-1755255600-1755370800@mattcarrollmusic.net
SUMMARY:Hilbert\, WI - Gospel Sing
DESCRIPTION:
URL:https://mattcarrollmusic.net/event/hilbert-wi-gospel-sing/
END:VEVENT
BEGIN:VEVENT
DTSTART;TZID=America/Chicago:20250817T090000
DTEND;TZID=America/Chicago:20250817T103000
DTSTAMP:20260425T110009
CREATED:20250418T021523Z
LAST-MODIFIED:20250418T021524Z
UID:650-1755421200-1755426600@mattcarrollmusic.net
SUMMARY:Brillion\, WI - Faith United Methodist Church
DESCRIPTION:
URL:https://mattcarrollmusic.net/event/brillion-wi-faith-united-methodist-church/
END:VEVENT
BEGIN:VEVENT
DTSTART;TZID=America/Chicago:20250822T120000
DTEND;TZID=America/Chicago:20250822T133000
DTSTAMP:20260425T110009
CREATED:20250702T001646Z
LAST-MODIFIED:20250702T001647Z
UID:697-1755864000-1755869400@mattcarrollmusic.net
SUMMARY:Centralia\, MO - First Baptist Church JOY
DESCRIPTION:Sr. Adult Luncheon
URL:https://mattcarrollmusic.net/event/centralia-mo-first-baptist-church-joy/
END:VEVENT
BEGIN:VEVENT
DTSTART;TZID=America/Chicago:20250822T130000
DTEND;TZID=America/Chicago:20250823T190000
DTSTAMP:20260425T110009
CREATED:20250418T021617Z
LAST-MODIFIED:20250418T021618Z
UID:652-1755867600-1755975600@mattcarrollmusic.net
SUMMARY:Kalona\, IA - Kalona Gospel Sing
DESCRIPTION:
URL:https://mattcarrollmusic.net/event/kalona-ia-kalona-gospel-sing/
END:VEVENT
BEGIN:VEVENT
DTSTART;TZID=America/Chicago:20250827T180000
DTEND;TZID=America/Chicago:20250827T193000
DTSTAMP:20260425T110009
CREATED:20250803T181433Z
LAST-MODIFIED:20250803T181433Z
UID:699-1756317600-1756323000@mattcarrollmusic.net
SUMMARY:Pageland\, SC - Bethlehem Baptist Church
DESCRIPTION:5732 Peach Orchard Road Pageland\, SC 29728
URL:https://mattcarrollmusic.net/event/pageland-sc-bethlehem-baptist-church/
END:VEVENT
BEGIN:VEVENT
DTSTART;TZID=America/Chicago:20250828T183000
DTEND;TZID=America/Chicago:20250828T200000
DTSTAMP:20260425T110009
CREATED:20250418T021715Z
LAST-MODIFIED:20250418T021716Z
UID:654-1756405800-1756411200@mattcarrollmusic.net
SUMMARY:Fort Lawn\, SC - Carolinas Cowboy Church
DESCRIPTION:
URL:https://mattcarrollmusic.net/event/fort-lawn-sc-carolinas-cowboy-church-2/
END:VEVENT
BEGIN:VEVENT
DTSTART;TZID=America/Chicago:20250907T180000
DTEND;TZID=America/Chicago:20250907T193000
DTSTAMP:20260425T110009
CREATED:20250803T181412Z
LAST-MODIFIED:20250803T181413Z
UID:703-1757268000-1757273400@mattcarrollmusic.net
SUMMARY:Beaufort\, SC - Grays Hill Baptist Church
DESCRIPTION:
URL:https://mattcarrollmusic.net/event/beaufort-sc-grays-hill-baptist-church-2/
END:VEVENT
BEGIN:VEVENT
DTSTART;TZID=America/Chicago:20250911T183000
DTEND;TZID=America/Chicago:20250911T203000
DTSTAMP:20260425T110009
CREATED:20250418T021832Z
LAST-MODIFIED:20250418T021833Z
UID:656-1757615400-1757622600@mattcarrollmusic.net
SUMMARY:Macon\, MO - First Baptist Church
DESCRIPTION:With Ambassadors of Grace and The DeLawder Family
URL:https://mattcarrollmusic.net/event/macon-mo-first-baptist-church-2/
END:VEVENT
BEGIN:VEVENT
DTSTART;TZID=America/Chicago:20250914T160000
DTEND;TZID=America/Chicago:20250914T173000
DTSTAMP:20260425T110009
CREATED:20250418T021942Z
LAST-MODIFIED:20250418T021943Z
UID:658-1757865600-1757871000@mattcarrollmusic.net
SUMMARY:Lawson\, MO - Old Union Church
DESCRIPTION:with The DeLawder Family
URL:https://mattcarrollmusic.net/event/lawson-mo-old-union-church/
END:VEVENT
BEGIN:VEVENT
DTSTART;TZID=America/Chicago:20250916T100000
DTEND;TZID=America/Chicago:20250916T120000
DTSTAMP:20260425T110009
CREATED:20250418T022044Z
LAST-MODIFIED:20250824T224222Z
UID:660-1758016800-1758024000@mattcarrollmusic.net
SUMMARY:NOTE: DELAWDERS ONLY EVENT -- Lee's Summit\, MO - Abundant Life Church
DESCRIPTION:AJOY luncheon with The DeLawder Family
URL:https://mattcarrollmusic.net/event/lees-summit-mo-abundant-life-church-2/
END:VEVENT
BEGIN:VEVENT
DTSTART;TZID=America/Chicago:20250919T190000
DTEND;TZID=America/Chicago:20250919T203000
DTSTAMP:20260425T110009
CREATED:20250702T002424Z
LAST-MODIFIED:20250824T224119Z
UID:706-1758308400-1758313800@mattcarrollmusic.net
SUMMARY:CANCELLED -- Yukon\, OK - Sara Road Baptist Church
DESCRIPTION:
URL:https://mattcarrollmusic.net/event/yukon-ok-sara-road-baptist-church-2/
END:VEVENT
END:VCALENDAR